BEGIN:VCALENDAR
VERSION:2.0
PRODID:-//WeAreEasy - ECPv6.15.12.2//NONSGML v1.0//EN
CALSCALE:GREGORIAN
METHOD:PUBLISH
X-ORIGINAL-URL:https://test.weareeasy.nl
X-WR-CALDESC:Events for WeAreEasy
REFRESH-INTERVAL;VALUE=DURATION:PT1H
X-Robots-Tag:noindex
X-PUBLISHED-TTL:PT1H
BEGIN:VTIMEZONE
TZID:Europe/Amsterdam
BEGIN:DAYLIGHT
TZOFFSETFROM:+0100
TZOFFSETTO:+0200
TZNAME:CEST
DTSTART:20220327T010000
END:DAYLIGHT
BEGIN:STANDARD
TZOFFSETFROM:+0200
TZOFFSETTO:+0100
TZNAME:CET
DTSTART:20221030T010000
END:STANDARD
BEGIN:DAYLIGHT
TZOFFSETFROM:+0100
TZOFFSETTO:+0200
TZNAME:CEST
DTSTART:20230326T010000
END:DAYLIGHT
BEGIN:STANDARD
TZOFFSETFROM:+0200
TZOFFSETTO:+0100
TZNAME:CET
DTSTART:20231029T010000
END:STANDARD
BEGIN:DAYLIGHT
TZOFFSETFROM:+0100
TZOFFSETTO:+0200
TZNAME:CEST
DTSTART:20240331T010000
END:DAYLIGHT
BEGIN:STANDARD
TZOFFSETFROM:+0200
TZOFFSETTO:+0100
TZNAME:CET
DTSTART:20241027T010000
END:STANDARD
END:VTIMEZONE
BEGIN:VEVENT
DTSTART;TZID=Europe/Amsterdam:20230529T150000
DTEND;TZID=Europe/Amsterdam:20230529T150000
DTSTAMP:20260420T104836
CREATED:20230403T101649Z
LAST-MODIFIED:20230403T103958Z
UID:286766-1685372400-1685372400@test.weareeasy.nl
SUMMARY:Pinkster Feest4Daagse Appelscha - Maandag 29 mei 2023 - RadioNL\, Ancora
DESCRIPTION:Line-up: RadioNL\, Marco Schuitmaker\, Ancora\, Melissa Smilda\, Burdy\, Gaatze Bosma en meer
URL:https://test.weareeasy.nl/evenement/pinkster-feest4daagse-appelscha-maandag-29-mei-2023/
LOCATION:De Steegdenhal Appelscha\, Nijesteegde 49A\, Appelscha\, 8426 GV\, Nederland
ORGANIZER;CN="Straight Ace Event Service":MAILTO:info.straightace@gmail.com
END:VEVENT
BEGIN:VEVENT
DTSTART;TZID=Europe/Amsterdam:20230528T210000
DTEND;TZID=Europe/Amsterdam:20230528T210000
DTSTAMP:20260420T104836
CREATED:20230403T095912Z
LAST-MODIFIED:20230403T103915Z
UID:286763-1685307600-1685307600@test.weareeasy.nl
SUMMARY:Pinkster Feest4Daagse Appelscha -Zondag 28 mei 2023 - QMusic\, Freddy Moreira
DESCRIPTION:Line-up: Qmusic Maximum hit hour\, Freddy Moreira\, Dave Roelvink en meer.
URL:https://test.weareeasy.nl/evenement/pinkster-feest4daagse-appelscha-zondag-28-mei-2023/
LOCATION:De Steegdenhal Appelscha\, Nijesteegde 49A\, Appelscha\, 8426 GV\, Nederland
ORGANIZER;CN="Straight Ace Event Service":MAILTO:info.straightace@gmail.com
END:VEVENT
BEGIN:VEVENT
DTSTART;TZID=Europe/Amsterdam:20230527T210000
DTEND;TZID=Europe/Amsterdam:20230527T210000
DTSTAMP:20260420T104836
CREATED:20230403T094354Z
LAST-MODIFIED:20230405T122350Z
UID:286760-1685221200-1685221200@test.weareeasy.nl
SUMMARY:Pinkster Feest4Daagse Appelscha – Zaterdag 27 mei 2023 – Vangrail
DESCRIPTION:Line-up: Vangrail\, DJ’s en meer
URL:https://test.weareeasy.nl/evenement/pinkster-feest4daagse-appelscha-zaterdag-27-mei-2023/
LOCATION:De Steegdenhal Appelscha\, Nijesteegde 49A\, Appelscha\, 8426 GV\, Nederland
ORGANIZER;CN="Straight Ace Event Service":MAILTO:info.straightace@gmail.com
END:VEVENT
BEGIN:VEVENT
DTSTART;TZID=Europe/Amsterdam:20230526T210000
DTEND;TZID=Europe/Amsterdam:20230526T210000
DTSTAMP:20260420T104836
CREATED:20230324T131941Z
LAST-MODIFIED:20230403T104130Z
UID:286755-1685134800-1685134800@test.weareeasy.nl
SUMMARY:Pinkster Feest4Daagse Appelscha - Vrijdag 26 mei 2023 - Paul Elstak
DESCRIPTION:Line-up: Paul Elstak\, BLACK TIE MONKEY SQUAD & Support act
URL:https://test.weareeasy.nl/evenement/pinkster-feest4daagse-appelscha-vrijdag-26-mei-2023/
LOCATION:De Steegdenhal Appelscha\, Nijesteegde 49A\, Appelscha\, 8426 GV\, Nederland
ORGANIZER;CN="Straight Ace Event Service":MAILTO:info.straightace@gmail.com
END:VEVENT
BEGIN:VEVENT
DTSTART;TZID=Europe/Amsterdam:20230526T080000
DTEND;TZID=Europe/Amsterdam:20230529T220000
DTSTAMP:20260420T104836
CREATED:20230403T102642Z
LAST-MODIFIED:20230406T130921Z
UID:286770-1685088000-1685397600@test.weareeasy.nl
SUMMARY:Pinkster Feest4Daagse Appelscha - Passe Partout - 26\, 27\, 28\, 29 mei 2023
DESCRIPTION:Entreeticket voor alle dagen
URL:https://test.weareeasy.nl/evenement/pinkster-feest4daagse-appelscha-passe-partout-26-27-28-29-mei-2023/
LOCATION:De Steegdenhal Appelscha\, Nijesteegde 49A\, Appelscha\, 8426 GV\, Nederland
ORGANIZER;CN="Straight Ace Event Service":MAILTO:info.straightace@gmail.com
END:VEVENT
END:VCALENDAR